BEGIN:VCALENDAR
VERSION:2.0
PRODID:-// - ECPv6.15.20//NONSGML v1.0//EN
CALSCALE:GREGORIAN
METHOD:PUBLISH
X-ORIGINAL-URL:https://www.flrunners.com.br
X-WR-CALDESC:Eventos para 
REFRESH-INTERVAL;VALUE=DURATION:PT1H
X-Robots-Tag:noindex
X-PUBLISHED-TTL:PT1H
BEGIN:VTIMEZONE
TZID:America/Sao_Paulo
BEGIN:STANDARD
TZOFFSETFROM:-0300
TZOFFSETTO:-0300
TZNAME:-03
DTSTART:20250101T000000
END:STANDARD
END:VTIMEZONE
BEGIN:VEVENT
DTSTART;VALUE=DATE:20260530
DTEND;VALUE=DATE:20260601
DTSTAMP:20260419T121737
CREATED:20251226T000935Z
LAST-MODIFIED:20251226T003231Z
UID:1385-1780099200-1780271999@www.flrunners.com.br
SUMMARY:Maratona de Porto Alegre (2 dias)
DESCRIPTION:  \n\n\n\nLocal: Porto Alegre – Rio Grande do Sul.\nPercursos: 5 km\, 10 km\, 21 km\, 42 km.\nDesafio: 21 + 42.\nInscrições: pelo site ticketesportes.com.br.\nPacotes de viagem (operadora oficial): Primor Turismo.\nContato: (31) 99660-1484 – Fernando.
URL:https://www.flrunners.com.br/event/maratona-de-porto-alegre-2-dias/
LOCATION:Porto Alegre Rio Grande do Sul
CATEGORIES:Corrida
ATTACH;FMTTYPE=image/png:https://www.flrunners.com.br/wp-content/uploads/2025/12/MaratonaPortoAlegre.png
END:VEVENT
END:VCALENDAR