BEGIN:VCALENDAR
VERSION:2.0
PRODID:-// - ECPv6.15.20//NONSGML v1.0//EN
CALSCALE:GREGORIAN
METHOD:PUBLISH
X-ORIGINAL-URL:https://www.flrunners.com.br
X-WR-CALDESC:Eventos para 
REFRESH-INTERVAL;VALUE=DURATION:PT1H
X-Robots-Tag:noindex
X-PUBLISHED-TTL:PT1H
BEGIN:VTIMEZONE
TZID:America/Sao_Paulo
BEGIN:STANDARD
TZOFFSETFROM:-0300
TZOFFSETTO:-0300
TZNAME:-03
DTSTART:20250101T000000
END:STANDARD
END:VTIMEZONE
BEGIN:VEVENT
DTSTART;VALUE=DATE:20260603
DTEND;VALUE=DATE:20260608
DTSTAMP:20260419T132607
CREATED:20251226T001555Z
LAST-MODIFIED:20251226T202453Z
UID:1389-1780444800-1780876799@www.flrunners.com.br
SUMMARY:Maratona do Rio (Semana do evento)
DESCRIPTION:Local: Rio de Janeiro.\nPercursos: 5 km\, 10 km\, 21 km\, 42 km.\nDesafio: 21 + 42.\nInscrições: esgotadas.\n\n\n\n‎Acesse este link para entrar no meu grupo do WhatsApp
URL:https://www.flrunners.com.br/event/maratona-do-rio-semana-do-evento/
LOCATION:Rio de Janeiro
CATEGORIES:Corrida
ATTACH;FMTTYPE=image/jpeg:https://www.flrunners.com.br/wp-content/uploads/2025/12/Rio2026.jpg
END:VEVENT
END:VCALENDAR