BEGIN:VCALENDAR
VERSION:2.0
PRODID:-// - ECPv6.15.20//NONSGML v1.0//EN
CALSCALE:GREGORIAN
METHOD:PUBLISH
X-ORIGINAL-URL:https://www.flrunners.com.br
X-WR-CALDESC:Eventos para 
REFRESH-INTERVAL;VALUE=DURATION:PT1H
X-Robots-Tag:noindex
X-PUBLISHED-TTL:PT1H
BEGIN:VTIMEZONE
TZID:America/Sao_Paulo
BEGIN:STANDARD
TZOFFSETFROM:-0300
TZOFFSETTO:-0300
TZNAME:-03
DTSTART:20250101T000000
END:STANDARD
END:VTIMEZONE
BEGIN:VEVENT
DTSTART;VALUE=DATE:20260628
DTEND;VALUE=DATE:20260629
DTSTAMP:20260419T174505
CREATED:20251226T002521Z
LAST-MODIFIED:20251226T202248Z
UID:1393-1782604800-1782691199@www.flrunners.com.br
SUMMARY:Maratona e Meia de BH
DESCRIPTION:RESERVE SUA VAGA \nData: 28/6/26 \nLOCAL: Pampulha \nModalidades: 5\, 10\, 21 e 42 km \nInvestimento: (já incluindo taxa para buscar o kit):\n42 km: 215\,00\n5\, 10 e 21 km: 160\,00 \nData para pagamento: Ainda não divulgaram. Provavelmente ano que vem\, 1 mês antes da prova. \nCaso queira que eu reserve sua vaga\, favor clicar no link mais abaixo e escrever: Nome completo\, data de nascimento\, modalidade e tamanho da camisa (unissex P\, M\, G\, GG\, XG ou baby look M) \nObs: Após reservar a vaga não é possível cancelar \nClique aqui para entrar no grupo
URL:https://www.flrunners.com.br/event/maratona-e-meia-de-bh/
LOCATION:Pampulha Belo Horizonte
CATEGORIES:Corrida
ATTACH;FMTTYPE=image/png:https://www.flrunners.com.br/wp-content/uploads/2025/12/meiabh.png
END:VEVENT
END:VCALENDAR