BEGIN:VCALENDAR
VERSION:2.0
PRODID:-// - ECPv6.15.20//NONSGML v1.0//EN
CALSCALE:GREGORIAN
METHOD:PUBLISH
X-ORIGINAL-URL:https://www.flrunners.com.br
X-WR-CALDESC:Eventos para 
REFRESH-INTERVAL;VALUE=DURATION:PT1H
X-Robots-Tag:noindex
X-PUBLISHED-TTL:PT1H
BEGIN:VTIMEZONE
TZID:America/Sao_Paulo
BEGIN:STANDARD
TZOFFSETFROM:-0300
TZOFFSETTO:-0300
TZNAME:-03
DTSTART:20250101T000000
END:STANDARD
END:VTIMEZONE
BEGIN:VEVENT
DTSTART;VALUE=DATE:20260927
DTEND;VALUE=DATE:20260928
DTSTAMP:20260420T024230
CREATED:20251226T003141Z
LAST-MODIFIED:20251226T003214Z
UID:1397-1790467200-1790553599@www.flrunners.com.br
SUMMARY:3ª Corrida Gold Runners
DESCRIPTION:Local: Lagoa Dourada.\nPercursos: 7 km e 17 km.\nInscrição: em breve mais informações \nObs.: Lagoa Dourada\, terra do Rocambole. \nPróxima a São João Del Rey e Tiradentes.
URL:https://www.flrunners.com.br/event/3a-corrida-gold-runners/
LOCATION:Lagoa Dourada/MG
CATEGORIES:Corrida
ATTACH;FMTTYPE=image/jpeg:https://www.flrunners.com.br/wp-content/uploads/2025/12/corrida_1275_710219820250922.jpeg
END:VEVENT
END:VCALENDAR