BEGIN:VCALENDAR
VERSION:2.0
PRODID:-// - ECPv6.15.20//NONSGML v1.0//EN
CALSCALE:GREGORIAN
METHOD:PUBLISH
X-ORIGINAL-URL:https://www.flrunners.com.br
X-WR-CALDESC:Eventos para 
REFRESH-INTERVAL;VALUE=DURATION:PT1H
X-Robots-Tag:noindex
X-PUBLISHED-TTL:PT1H
BEGIN:VTIMEZONE
TZID:America/Sao_Paulo
BEGIN:STANDARD
TZOFFSETFROM:-0300
TZOFFSETTO:-0300
TZNAME:-03
DTSTART:20250101T000000
END:STANDARD
END:VTIMEZONE
BEGIN:VEVENT
DTSTART;TZID=America/Sao_Paulo:20260419T080000
DTEND;TZID=America/Sao_Paulo:20260419T100000
DTSTAMP:20260419T104425
CREATED:20260210T160720Z
LAST-MODIFIED:20260210T161718Z
UID:2264-1776585600-1776592800@www.flrunners.com.br
SUMMARY:Corrida do Super Luna Supermercado.
DESCRIPTION:Data: 19/4 (domingo) \nLocal: Praça do Encontro – Av. Juíz Marco Túlio Isaac – Parque das Indústrias – Betim \nModalidades: \nCorrida de 10 km\nCorrida de 6 km\nCaminhada de 3 km\nKids (entre 2013 e 2022) \nValor: 180\,00 \nPagamento: até dia 1/4. \nOBS: Nesta prova NÃO BUSCO O KIT.\nCada um busca o seu. \nCaso queira que eu faça sua inscrição\, favor clicar no link abaixo e escrever: nome completo\, data de nascimento\, modalidade e tamanho da camisa (unissex P\, M\, G\, GG\, XG\, ou baby look M). \nhttps://chat.whatsapp.com/IzhtoJnxyQsDuqOzHELhXJ?mode=gi_t
URL:https://www.flrunners.com.br/event/corrida-do-super-luna-supermercado/
LOCATION:Praça do Encontro – Av. Juiz Marco Túlio Isaac – Parque das Indústrias – Betim.
CATEGORIES:Corrida
ATTACH;FMTTYPE=image/jpeg:https://www.flrunners.com.br/wp-content/uploads/2026/02/WhatsApp-Image-2026-02-10-at-10.06.34.jpeg
END:VEVENT
END:VCALENDAR